BEGIN:VCALENDAR
VERSION:2.0
PRODID:-//Zoótropo Teatro - ECPv6.15.0.1//NONSGML v1.0//EN
CALSCALE:GREGORIAN
METHOD:PUBLISH
X-ORIGINAL-URL:https://zootropoteatro.com
X-WR-CALDESC:Eventos para Zoótropo Teatro
REFRESH-INTERVAL;VALUE=DURATION:PT1H
X-Robots-Tag:noindex
X-PUBLISHED-TTL:PT1H
BEGIN:VTIMEZONE
TZID:Europe/Madrid
BEGIN:DAYLIGHT
TZOFFSETFROM:+0100
TZOFFSETTO:+0200
TZNAME:CEST
DTSTART:20250330T010000
END:DAYLIGHT
BEGIN:STANDARD
TZOFFSETFROM:+0200
TZOFFSETTO:+0100
TZNAME:CET
DTSTART:20251026T010000
END:STANDARD
END:VTIMEZONE
BEGIN:VEVENT
DTSTART;TZID=Europe/Madrid:20250301T183000
DTEND;TZID=Europe/Madrid:20250301T200000
DTSTAMP:20260421T201840
CREATED:20250122T115622Z
LAST-MODIFIED:20250122T115622Z
UID:4739-1740853800-1740859200@zootropoteatro.com
SUMMARY:Presentación libro: Las palabras olvidadas
DESCRIPTION:Las palabras olvidadas es fruto del trabajo de investigación realizado para la puesta escénica de «Las palabras olvidadas». Es un viaje al encuentro de muchas mujeres que se valieron de la escritura para expresar lo vivido\, lo sentido y lo imaginado. Desde la antigua Sumeria hasta final de la Edad Media\, descubriremos a diversas autoras cuyas palabras han sido muchas veces silenciadas\, ignoradas\, olvidadas. \nDirigido a público adulto \n 
URL:https://zootropoteatro.com/calendario/presentacion-libro-las-palabras-olvidadas-5/
LOCATION:de bat a bat llibres\, Calaceite
CATEGORIES:PRESENTACIÓN
ATTACH;FMTTYPE=image/jpeg:https://zootropoteatro.com/wp-content/uploads/2024/01/Portada-libro-Las-palabras-Olvidadas.jpg
END:VEVENT
END:VCALENDAR