BEGIN:VCALENDAR
VERSION:2.0
PRODID:-//Zoótropo Teatro - ECPv6.15.0.1//NONSGML v1.0//EN
CALSCALE:GREGORIAN
METHOD:PUBLISH
X-ORIGINAL-URL:https://zootropoteatro.com
X-WR-CALDESC:Eventos para Zoótropo Teatro
REFRESH-INTERVAL;VALUE=DURATION:PT1H
X-Robots-Tag:noindex
X-PUBLISHED-TTL:PT1H
BEGIN:VTIMEZONE
TZID:Europe/Madrid
BEGIN:DAYLIGHT
TZOFFSETFROM:+0100
TZOFFSETTO:+0200
TZNAME:CEST
DTSTART:20260329T010000
END:DAYLIGHT
BEGIN:STANDARD
TZOFFSETFROM:+0200
TZOFFSETTO:+0100
TZNAME:CET
DTSTART:20261025T010000
END:STANDARD
END:VTIMEZONE
BEGIN:VEVENT
DTSTART;TZID=Europe/Madrid:20260505T100000
DTEND;TZID=Europe/Madrid:20260505T120000
DTSTAMP:20260423T122654
CREATED:20250826T075435Z
LAST-MODIFIED:20250826T075435Z
UID:4938-1777975200-1777982400@zootropoteatro.com
SUMMARY:Pablo Serrano
DESCRIPTION:Actividad didáctica para colegios en el IAACC Pablo Serrano.
URL:https://zootropoteatro.com/calendario/pablo-serrano-388/
LOCATION:Museo Pablo Serrano\, Paseo María Agustín\, 20\, Zaragoza\, España
CATEGORIES:TALLERES A LA CARTA
ATTACH;FMTTYPE=image/webp:https://zootropoteatro.com/wp-content/uploads/2023/05/pablo-serrano-evento.webp
END:VEVENT
BEGIN:VEVENT
DTSTART;TZID=Europe/Madrid:20260506T100000
DTEND;TZID=Europe/Madrid:20260506T120000
DTSTAMP:20260423T122654
CREATED:20250826T075616Z
LAST-MODIFIED:20250826T075616Z
UID:4989-1778061600-1778068800@zootropoteatro.com
SUMMARY:Pablo Serrano
DESCRIPTION:Actividad didáctica para colegios en el IAACC Pablo Serrano.
URL:https://zootropoteatro.com/calendario/pablo-serrano-389/
LOCATION:Museo Pablo Serrano\, Paseo María Agustín\, 20\, Zaragoza\, España
CATEGORIES:TALLERES A LA CARTA
ATTACH;FMTTYPE=image/webp:https://zootropoteatro.com/wp-content/uploads/2023/05/pablo-serrano-evento.webp
END:VEVENT
BEGIN:VEVENT
DTSTART;TZID=Europe/Madrid:20260512T100000
DTEND;TZID=Europe/Madrid:20260512T120000
DTSTAMP:20260423T122654
CREATED:20250826T075641Z
LAST-MODIFIED:20250826T075641Z
UID:4988-1778580000-1778587200@zootropoteatro.com
SUMMARY:Pablo Serrano
DESCRIPTION:Actividad didáctica para colegios en el IAACC Pablo Serrano.
URL:https://zootropoteatro.com/calendario/pablo-serrano-390/
LOCATION:Museo Pablo Serrano\, Paseo María Agustín\, 20\, Zaragoza\, España
CATEGORIES:TALLERES A LA CARTA
ATTACH;FMTTYPE=image/webp:https://zootropoteatro.com/wp-content/uploads/2023/05/pablo-serrano-evento.webp
END:VEVENT
BEGIN:VEVENT
DTSTART;TZID=Europe/Madrid:20260513T100000
DTEND;TZID=Europe/Madrid:20260513T120000
DTSTAMP:20260423T122654
CREATED:20250826T075720Z
LAST-MODIFIED:20250826T075720Z
UID:4987-1778666400-1778673600@zootropoteatro.com
SUMMARY:Pablo Serrano
DESCRIPTION:Actividad didáctica para colegios en el IAACC Pablo Serrano.
URL:https://zootropoteatro.com/calendario/pablo-serrano-391/
LOCATION:Museo Pablo Serrano\, Paseo María Agustín\, 20\, Zaragoza\, España
CATEGORIES:TALLERES A LA CARTA
ATTACH;FMTTYPE=image/webp:https://zootropoteatro.com/wp-content/uploads/2023/05/pablo-serrano-evento.webp
END:VEVENT
BEGIN:VEVENT
DTSTART;TZID=Europe/Madrid:20260519T100000
DTEND;TZID=Europe/Madrid:20260519T120000
DTSTAMP:20260423T122654
CREATED:20250826T075757Z
LAST-MODIFIED:20250826T075757Z
UID:4986-1779184800-1779192000@zootropoteatro.com
SUMMARY:Pablo Serrano
DESCRIPTION:Actividad didáctica para colegios en el IAACC Pablo Serrano.
URL:https://zootropoteatro.com/calendario/pablo-serrano-392/
LOCATION:Museo Pablo Serrano\, Paseo María Agustín\, 20\, Zaragoza\, España
CATEGORIES:TALLERES A LA CARTA
ATTACH;FMTTYPE=image/webp:https://zootropoteatro.com/wp-content/uploads/2023/05/pablo-serrano-evento.webp
END:VEVENT
BEGIN:VEVENT
DTSTART;TZID=Europe/Madrid:20260520T100000
DTEND;TZID=Europe/Madrid:20260520T120000
DTSTAMP:20260423T122654
CREATED:20250826T075850Z
LAST-MODIFIED:20250826T075850Z
UID:4985-1779271200-1779278400@zootropoteatro.com
SUMMARY:Pablo Serrano
DESCRIPTION:Actividad didáctica para colegios en el IAACC Pablo Serrano.
URL:https://zootropoteatro.com/calendario/pablo-serrano-393/
LOCATION:Museo Pablo Serrano\, Paseo María Agustín\, 20\, Zaragoza\, España
CATEGORIES:TALLERES A LA CARTA
ATTACH;FMTTYPE=image/webp:https://zootropoteatro.com/wp-content/uploads/2023/05/pablo-serrano-evento.webp
END:VEVENT
BEGIN:VEVENT
DTSTART;TZID=Europe/Madrid:20260526T100000
DTEND;TZID=Europe/Madrid:20260526T120000
DTSTAMP:20260423T122654
CREATED:20250826T075918Z
LAST-MODIFIED:20250826T075918Z
UID:4983-1779789600-1779796800@zootropoteatro.com
SUMMARY:Pablo Serrano
DESCRIPTION:Actividad didáctica para colegios en el IAACC Pablo Serrano.
URL:https://zootropoteatro.com/calendario/pablo-serrano-394/
LOCATION:Museo Pablo Serrano\, Paseo María Agustín\, 20\, Zaragoza\, España
CATEGORIES:TALLERES A LA CARTA
ATTACH;FMTTYPE=image/webp:https://zootropoteatro.com/wp-content/uploads/2023/05/pablo-serrano-evento.webp
END:VEVENT
END:VCALENDAR