BEGIN:VCALENDAR
VERSION:2.0
PRODID:-//Zoótropo Teatro - ECPv6.15.0.1//NONSGML v1.0//EN
CALSCALE:GREGORIAN
METHOD:PUBLISH
X-ORIGINAL-URL:https://zootropoteatro.com
X-WR-CALDESC:Eventos para Zoótropo Teatro
REFRESH-INTERVAL;VALUE=DURATION:PT1H
X-Robots-Tag:noindex
X-PUBLISHED-TTL:PT1H
BEGIN:VTIMEZONE
TZID:Europe/Madrid
BEGIN:DAYLIGHT
TZOFFSETFROM:+0100
TZOFFSETTO:+0200
TZNAME:CEST
DTSTART:20240331T010000
END:DAYLIGHT
BEGIN:STANDARD
TZOFFSETFROM:+0200
TZOFFSETTO:+0100
TZNAME:CET
DTSTART:20241027T010000
END:STANDARD
END:VTIMEZONE
BEGIN:VEVENT
DTSTART;TZID=Europe/Madrid:20240204T110000
DTEND;TZID=Europe/Madrid:20240204T123000
DTSTAMP:20260420T181125
CREATED:20240122T171605Z
LAST-MODIFIED:20240123T110411Z
UID:4325-1707044400-1707049800@zootropoteatro.com
SUMMARY:Pablo y Juana\, como en casa
DESCRIPTION:Un ameno paseo por la obra del escultor Pablo Serrano y la pintora Juana Francés que te ayudará a conocer el sentido de sus creaciones. \nDirigido a todos los públicos. \nReservas en la web del IAAAC Pablo Serrano \nProyecto colaboración IAAAC Pablo Serrano y Museo Pablo Gargallo
URL:https://zootropoteatro.com/calendario/pablo-y-juana-como-en-casa-5/
LOCATION:IAACC Pablo Serrano (Zaragoza)\, Paseo María Agustín\, 20\, Zaragoza\, España
CATEGORIES:VISITAS TEATRALIZADAS
ATTACH;FMTTYPE=image/webp:https://zootropoteatro.com/wp-content/uploads/2023/05/juana_frances_con_pablo_serrano.webp
END:VEVENT
BEGIN:VEVENT
DTSTART;TZID=Europe/Madrid:20240209T190000
DTEND;TZID=Europe/Madrid:20240209T200000
DTSTAMP:20260420T181125
CREATED:20240123T145414Z
LAST-MODIFIED:20240123T145414Z
UID:4346-1707505200-1707508800@zootropoteatro.com
SUMMARY:Presentación libro: Las palabras olvidadas
DESCRIPTION:Las palabras olvidadas es fruto del trabajo de investigación realizado para la puesta escénica de «Las palabras olvidadas». Es un viaje al encuentro de muchas mujeres que se valieron de la escritura para expresar lo vivido\, lo sentido y lo imaginado. Desde la antigua Sumeria hasta final de la Edad Media\, descubriremos a diversas autoras cuyas palabras han sido muchas veces silenciadas\, ignoradas\, olvidadas. \nDirigido a público adulto \n 
URL:https://zootropoteatro.com/calendario/presentacion-libro/
LOCATION:FNAC Zaragoza\, Coso 25-27\, Zaragoza
CATEGORIES:PRESENTACIÓN
ATTACH;FMTTYPE=image/jpeg:https://zootropoteatro.com/wp-content/uploads/2024/01/Portada-libro-Las-palabras-Olvidadas.jpg
END:VEVENT
BEGIN:VEVENT
DTSTART;TZID=Europe/Madrid:20240213T100000
DTEND;TZID=Europe/Madrid:20240213T120000
DTSTAMP:20260420T181125
CREATED:20231201T082830Z
LAST-MODIFIED:20231201T082830Z
UID:4233-1707818400-1707825600@zootropoteatro.com
SUMMARY:Pablo Serrano
DESCRIPTION:Actividad didáctica para colegios en el IAACC Pablo Serrano.
URL:https://zootropoteatro.com/calendario/pablo-serrano-308/
LOCATION:Museo Pablo Serrano\, Paseo María Agustín\, 20\, Zaragoza\, España
CATEGORIES:TALLERES A LA CARTA
ATTACH;FMTTYPE=image/webp:https://zootropoteatro.com/wp-content/uploads/2023/05/pablo-serrano-evento.webp
END:VEVENT
BEGIN:VEVENT
DTSTART;TZID=Europe/Madrid:20240214T100000
DTEND;TZID=Europe/Madrid:20240214T120000
DTSTAMP:20260420T181125
CREATED:20231201T082847Z
LAST-MODIFIED:20231201T082847Z
UID:4232-1707904800-1707912000@zootropoteatro.com
SUMMARY:Pablo Serrano
DESCRIPTION:Actividad didáctica para colegios en el IAACC Pablo Serrano.
URL:https://zootropoteatro.com/calendario/pablo-serrano-309/
LOCATION:Museo Pablo Serrano\, Paseo María Agustín\, 20\, Zaragoza\, España
CATEGORIES:TALLERES A LA CARTA
ATTACH;FMTTYPE=image/webp:https://zootropoteatro.com/wp-content/uploads/2023/05/pablo-serrano-evento.webp
END:VEVENT
BEGIN:VEVENT
DTSTART;TZID=Europe/Madrid:20240220T100000
DTEND;TZID=Europe/Madrid:20240220T120000
DTSTAMP:20260420T181125
CREATED:20231201T082903Z
LAST-MODIFIED:20231201T082903Z
UID:4231-1708423200-1708430400@zootropoteatro.com
SUMMARY:Pablo Serrano
DESCRIPTION:Actividad didáctica para colegios en el IAACC Pablo Serrano.
URL:https://zootropoteatro.com/calendario/pablo-serrano-310/
LOCATION:Museo Pablo Serrano\, Paseo María Agustín\, 20\, Zaragoza\, España
CATEGORIES:TALLERES A LA CARTA
ATTACH;FMTTYPE=image/webp:https://zootropoteatro.com/wp-content/uploads/2023/05/pablo-serrano-evento.webp
END:VEVENT
BEGIN:VEVENT
DTSTART;TZID=Europe/Madrid:20240221T100000
DTEND;TZID=Europe/Madrid:20240221T120000
DTSTAMP:20260420T181125
CREATED:20231201T082925Z
LAST-MODIFIED:20231201T082925Z
UID:4230-1708509600-1708516800@zootropoteatro.com
SUMMARY:Pablo Serrano
DESCRIPTION:Actividad didáctica para colegios en el IAACC Pablo Serrano.
URL:https://zootropoteatro.com/calendario/pablo-serrano-311/
LOCATION:Museo Pablo Serrano\, Paseo María Agustín\, 20\, Zaragoza\, España
CATEGORIES:TALLERES A LA CARTA
ATTACH;FMTTYPE=image/webp:https://zootropoteatro.com/wp-content/uploads/2023/05/pablo-serrano-evento.webp
END:VEVENT
BEGIN:VEVENT
DTSTART;TZID=Europe/Madrid:20240223T190000
DTEND;TZID=Europe/Madrid:20240223T203000
DTSTAMP:20260420T181125
CREATED:20231201T085650Z
LAST-MODIFIED:20240123T111831Z
UID:4274-1708714800-1708720200@zootropoteatro.com
SUMMARY:Pablo Gargallo y Magali Tartanson
DESCRIPTION:Magali Tartanson\, a modo de flashback\, rememorará los momentos vividos junto al escultor Pablo Gargallo\, pero también los años posteriores a su muerte\, los que Magali realizó una importante labor como conservadora y difusora del legado del artista \nDirigido a todos los públicos. \nReservas en la web del Museo Pablo Gargallo. \nProyecto colaboración Museo Pablo Gargallo e IAAAC Pablo Serrano.
URL:https://zootropoteatro.com/calendario/pablo-gargallo-y-magali-tartanson-8/
LOCATION:Museo Pablo Gargallo
CATEGORIES:VISITAS TEATRALIZADAS
ATTACH;FMTTYPE=image/webp:https://zootropoteatro.com/wp-content/uploads/2023/05/Pablo-y-Magali-en-el-45-de-la-calle-Blomet-en-Paris-1913.webp
END:VEVENT
BEGIN:VEVENT
DTSTART;TZID=Europe/Madrid:20240224T183000
DTEND;TZID=Europe/Madrid:20240224T210000
DTSTAMP:20260420T181125
CREATED:20231201T110528Z
LAST-MODIFIED:20231201T110528Z
UID:4276-1708799400-1708808400@zootropoteatro.com
SUMMARY:Las palabras olvidadas. (Literatura femenina en la Antigüedad)
DESCRIPTION:Literatura femenina en la Antigüedad \nForo romano de Caesaraugusta (Zaragoza) \nPases: 18:30 y 20 horas. \n 
URL:https://zootropoteatro.com/calendario/las-palabras-olvidadas-literatura-femenina-en-la-antiguedad/
LOCATION:Foro romano de Zaragoza
CATEGORIES:NARRACIÓN ORAL,TEATRO DE SALA
ATTACH;FMTTYPE=image/webp:https://zootropoteatro.com/wp-content/uploads/2023/05/las-palabras-olvidadas-cartel.webp
END:VEVENT
BEGIN:VEVENT
DTSTART;TZID=Europe/Madrid:20240225T110000
DTEND;TZID=Europe/Madrid:20240225T123000
DTSTAMP:20260420T181125
CREATED:20240123T110716Z
LAST-MODIFIED:20240123T110716Z
UID:4330-1708858800-1708864200@zootropoteatro.com
SUMMARY:Pablo y Juana\, como en casa
DESCRIPTION:Un ameno paseo por la obra del escultor Pablo Serrano y la pintora Juana Francés que te ayudará a conocer el sentido de sus creaciones. \nDirigido a todos los públicos. \nReservas en la web del IAAAC Pablo Serrano \nProyecto colaboración IAAAC Pablo Serrano y Museo Pablo Gargallo
URL:https://zootropoteatro.com/calendario/pablo-y-juana-como-en-casa-6/
LOCATION:IAACC Pablo Serrano (Zaragoza)\, Paseo María Agustín\, 20\, Zaragoza\, España
CATEGORIES:VISITAS TEATRALIZADAS
ATTACH;FMTTYPE=image/webp:https://zootropoteatro.com/wp-content/uploads/2023/05/juana_frances_con_pablo_serrano.webp
END:VEVENT
BEGIN:VEVENT
DTSTART;VALUE=DATE:20240226
DTEND;VALUE=DATE:20240227
DTSTAMP:20260420T181125
CREATED:20240123T113549Z
LAST-MODIFIED:20240214T153410Z
UID:4344-1708905600-1708991999@zootropoteatro.com
SUMMARY:Taller de Teatro "Palabras al viento"
DESCRIPTION:CEIP Alejo Lorén. Caspe (Zaragoza) \n  \n(Fecha inicial prevista 07/02/2024 – nueva fecha 26/02/2024)
URL:https://zootropoteatro.com/calendario/taller-de-teatro-palabras-al-viento-13/
LOCATION:CEIP Alejo Lorén
CATEGORIES:TALLERES A LA CARTA
ATTACH;FMTTYPE=image/webp:https://zootropoteatro.com/wp-content/uploads/2023/05/taller-palabras-al-viento.webp
END:VEVENT
BEGIN:VEVENT
DTSTART;TZID=Europe/Madrid:20240227T100000
DTEND;TZID=Europe/Madrid:20240227T120000
DTSTAMP:20260420T181125
CREATED:20231201T082943Z
LAST-MODIFIED:20231201T082943Z
UID:4229-1709028000-1709035200@zootropoteatro.com
SUMMARY:Pablo Serrano
DESCRIPTION:Actividad didáctica para colegios en el IAACC Pablo Serrano.
URL:https://zootropoteatro.com/calendario/pablo-serrano-312/
LOCATION:Museo Pablo Serrano\, Paseo María Agustín\, 20\, Zaragoza\, España
CATEGORIES:TALLERES A LA CARTA
ATTACH;FMTTYPE=image/webp:https://zootropoteatro.com/wp-content/uploads/2023/05/pablo-serrano-evento.webp
END:VEVENT
BEGIN:VEVENT
DTSTART;TZID=Europe/Madrid:20240228T100000
DTEND;TZID=Europe/Madrid:20240228T120000
DTSTAMP:20260420T181125
CREATED:20231201T083002Z
LAST-MODIFIED:20231201T083002Z
UID:4228-1709114400-1709121600@zootropoteatro.com
SUMMARY:Pablo Serrano
DESCRIPTION:Actividad didáctica para colegios en el IAACC Pablo Serrano.
URL:https://zootropoteatro.com/calendario/pablo-serrano-313/
LOCATION:Museo Pablo Serrano\, Paseo María Agustín\, 20\, Zaragoza\, España
CATEGORIES:TALLERES A LA CARTA
ATTACH;FMTTYPE=image/webp:https://zootropoteatro.com/wp-content/uploads/2023/05/pablo-serrano-evento.webp
END:VEVENT
BEGIN:VEVENT
DTSTART;TZID=Europe/Madrid:20240308T190000
DTEND;TZID=Europe/Madrid:20240308T210000
DTSTAMP:20260420T181125
CREATED:20240122T172343Z
LAST-MODIFIED:20240122T172343Z
UID:4327-1709924400-1709931600@zootropoteatro.com
SUMMARY:Las palabras olvidadas
DESCRIPTION:Auditorio de Sabiñánigo (Huesca) \n  \n 
URL:https://zootropoteatro.com/calendario/las-palabras-olvidadas-36/
LOCATION:Auditorio de Sabiñánigo
CATEGORIES:NARRACIÓN ORAL,TEATRO DE SALA
ATTACH;FMTTYPE=image/webp:https://zootropoteatro.com/wp-content/uploads/2023/05/las-palabras-olvidadas-cartel.webp
END:VEVENT
BEGIN:VEVENT
DTSTART;TZID=Europe/Madrid:20240309T190000
DTEND;TZID=Europe/Madrid:20240309T210000
DTSTAMP:20260420T181125
CREATED:20231201T111011Z
LAST-MODIFIED:20231201T111011Z
UID:4280-1710010800-1710018000@zootropoteatro.com
SUMMARY:Las palabras olvidadas
DESCRIPTION:Teatro Municipal de Utebo (Zaragoza) \n  \n 
URL:https://zootropoteatro.com/calendario/las-palabras-olvidadas-17/
LOCATION:Teatro Municipal de Utebo\, Utebo\, Zaragoza
CATEGORIES:NARRACIÓN ORAL,TEATRO DE SALA
ATTACH;FMTTYPE=image/webp:https://zootropoteatro.com/wp-content/uploads/2023/05/las-palabras-olvidadas-cartel.webp
END:VEVENT
BEGIN:VEVENT
DTSTART;TZID=Europe/Madrid:20240310T000000
DTEND;TZID=Europe/Madrid:20240310T000000
DTSTAMP:20260420T181125
CREATED:20240226T164948Z
LAST-MODIFIED:20240226T165004Z
UID:4387-1710028800-1710028800@zootropoteatro.com
SUMMARY:Las palabras olvidadas
DESCRIPTION:Fuentes de Ebro (Zaragoza) \n  \n 
URL:https://zootropoteatro.com/calendario/las-palabras-olvidadas-38/
CATEGORIES:NARRACIÓN ORAL,TEATRO DE SALA
ATTACH;FMTTYPE=image/webp:https://zootropoteatro.com/wp-content/uploads/2023/05/las-palabras-olvidadas-cartel.webp
END:VEVENT
BEGIN:VEVENT
DTSTART;TZID=Europe/Madrid:20240312T100000
DTEND;TZID=Europe/Madrid:20240312T120000
DTSTAMP:20260420T181125
CREATED:20231201T083027Z
LAST-MODIFIED:20231201T083027Z
UID:4227-1710237600-1710244800@zootropoteatro.com
SUMMARY:Pablo Serrano
DESCRIPTION:Actividad didáctica para colegios en el IAACC Pablo Serrano.
URL:https://zootropoteatro.com/calendario/pablo-serrano-314/
LOCATION:Museo Pablo Serrano\, Paseo María Agustín\, 20\, Zaragoza\, España
CATEGORIES:TALLERES A LA CARTA
ATTACH;FMTTYPE=image/webp:https://zootropoteatro.com/wp-content/uploads/2023/05/pablo-serrano-evento.webp
END:VEVENT
BEGIN:VEVENT
DTSTART;TZID=Europe/Madrid:20240313T100000
DTEND;TZID=Europe/Madrid:20240313T120000
DTSTAMP:20260420T181125
CREATED:20231201T083046Z
LAST-MODIFIED:20231201T083046Z
UID:4226-1710324000-1710331200@zootropoteatro.com
SUMMARY:Pablo Serrano
DESCRIPTION:Actividad didáctica para colegios en el IAACC Pablo Serrano.
URL:https://zootropoteatro.com/calendario/pablo-serrano-315/
LOCATION:Museo Pablo Serrano\, Paseo María Agustín\, 20\, Zaragoza\, España
CATEGORIES:TALLERES A LA CARTA
ATTACH;FMTTYPE=image/webp:https://zootropoteatro.com/wp-content/uploads/2023/05/pablo-serrano-evento.webp
END:VEVENT
BEGIN:VEVENT
DTSTART;TZID=Europe/Madrid:20240317T110000
DTEND;TZID=Europe/Madrid:20240317T123000
DTSTAMP:20260420T181125
CREATED:20240123T111211Z
LAST-MODIFIED:20240123T111211Z
UID:4332-1710673200-1710678600@zootropoteatro.com
SUMMARY:Pablo y Juana\, como en casa
DESCRIPTION:Un ameno paseo por la obra del escultor Pablo Serrano y la pintora Juana Francés que te ayudará a conocer el sentido de sus creaciones. \nDirigido a todos los públicos. \nReservas en la web del IAAAC Pablo Serrano \nProyecto colaboración IAAAC Pablo Serrano y Museo Pablo Gargallo
URL:https://zootropoteatro.com/calendario/pablo-y-juana-como-en-casa-7/
LOCATION:IAACC Pablo Serrano (Zaragoza)\, Paseo María Agustín\, 20\, Zaragoza\, España
CATEGORIES:VISITAS TEATRALIZADAS
ATTACH;FMTTYPE=image/webp:https://zootropoteatro.com/wp-content/uploads/2023/05/juana_frances_con_pablo_serrano.webp
END:VEVENT
BEGIN:VEVENT
DTSTART;TZID=Europe/Madrid:20240319T100000
DTEND;TZID=Europe/Madrid:20240319T120000
DTSTAMP:20260420T181125
CREATED:20231201T083102Z
LAST-MODIFIED:20231201T083102Z
UID:4225-1710842400-1710849600@zootropoteatro.com
SUMMARY:Pablo Serrano
DESCRIPTION:Actividad didáctica para colegios en el IAACC Pablo Serrano.
URL:https://zootropoteatro.com/calendario/pablo-serrano-316/
LOCATION:Museo Pablo Serrano\, Paseo María Agustín\, 20\, Zaragoza\, España
CATEGORIES:TALLERES A LA CARTA
ATTACH;FMTTYPE=image/webp:https://zootropoteatro.com/wp-content/uploads/2023/05/pablo-serrano-evento.webp
END:VEVENT
BEGIN:VEVENT
DTSTART;TZID=Europe/Madrid:20240320T100000
DTEND;TZID=Europe/Madrid:20240320T120000
DTSTAMP:20260420T181125
CREATED:20231201T083119Z
LAST-MODIFIED:20231201T083119Z
UID:4224-1710928800-1710936000@zootropoteatro.com
SUMMARY:Pablo Serrano
DESCRIPTION:Actividad didáctica para colegios en el IAACC Pablo Serrano.
URL:https://zootropoteatro.com/calendario/pablo-serrano-317/
LOCATION:Museo Pablo Serrano\, Paseo María Agustín\, 20\, Zaragoza\, España
CATEGORIES:TALLERES A LA CARTA
ATTACH;FMTTYPE=image/webp:https://zootropoteatro.com/wp-content/uploads/2023/05/pablo-serrano-evento.webp
END:VEVENT
BEGIN:VEVENT
DTSTART;TZID=Europe/Madrid:20240321T190000
DTEND;TZID=Europe/Madrid:20240321T200000
DTSTAMP:20260420T181125
CREATED:20240123T152300Z
LAST-MODIFIED:20240123T152300Z
UID:4365-1711047600-1711051200@zootropoteatro.com
SUMMARY:Presentaciones con encanto
DESCRIPTION:Encuentro con autores. Tertulia en torno al libro las palabras olvidadas. \nSalón de actos de la Diputación Provincial de Zaragoza \n  \n 
URL:https://zootropoteatro.com/calendario/presentaciones-con-encanto/
LOCATION:Salón de Actos de la Dputación Provincial de Zaragoza
CATEGORIES:PRESENTACIÓN
ATTACH;FMTTYPE=image/jpeg:https://zootropoteatro.com/wp-content/uploads/2024/01/Portada-libro-Las-palabras-Olvidadas.jpg
END:VEVENT
BEGIN:VEVENT
DTSTART;TZID=Europe/Madrid:20240322T190000
DTEND;TZID=Europe/Madrid:20240322T203000
DTSTAMP:20260420T181125
CREATED:20231201T085623Z
LAST-MODIFIED:20240123T111940Z
UID:4272-1711134000-1711139400@zootropoteatro.com
SUMMARY:Pablo Gargallo y Magali Tartanson
DESCRIPTION:Magali Tartanson\, a modo de flashback\, rememorará los momentos vividos junto al escultor Pablo Gargallo\, pero también los años posteriores a su muerte\, los que Magali realizó una importante labor como conservadora y difusora del legado del artista \nDirigido a todos los públicos. \nReservas en la web del Museo Pablo Gargallo. \nProyecto colaboración Museo Pablo Gargallo e IAAAC Pablo Serrano.
URL:https://zootropoteatro.com/calendario/pablo-gargallo-y-magali-tartanson-7/
LOCATION:Museo Pablo Gargallo
CATEGORIES:VISITAS TEATRALIZADAS
ATTACH;FMTTYPE=image/webp:https://zootropoteatro.com/wp-content/uploads/2023/05/Pablo-y-Magali-en-el-45-de-la-calle-Blomet-en-Paris-1913.webp
END:VEVENT
BEGIN:VEVENT
DTSTART;TZID=Europe/Madrid:20240409T100000
DTEND;TZID=Europe/Madrid:20240409T120000
DTSTAMP:20260420T181125
CREATED:20231201T083141Z
LAST-MODIFIED:20231201T083141Z
UID:4223-1712656800-1712664000@zootropoteatro.com
SUMMARY:Pablo Serrano
DESCRIPTION:Actividad didáctica para colegios en el IAACC Pablo Serrano.
URL:https://zootropoteatro.com/calendario/pablo-serrano-318/
LOCATION:Museo Pablo Serrano\, Paseo María Agustín\, 20\, Zaragoza\, España
CATEGORIES:TALLERES A LA CARTA
ATTACH;FMTTYPE=image/webp:https://zootropoteatro.com/wp-content/uploads/2023/05/pablo-serrano-evento.webp
END:VEVENT
BEGIN:VEVENT
DTSTART;TZID=Europe/Madrid:20240410T100000
DTEND;TZID=Europe/Madrid:20240410T120000
DTSTAMP:20260420T181125
CREATED:20231201T083229Z
LAST-MODIFIED:20231201T083229Z
UID:4221-1712743200-1712750400@zootropoteatro.com
SUMMARY:Pablo Serrano
DESCRIPTION:Actividad didáctica para colegios en el IAACC Pablo Serrano.
URL:https://zootropoteatro.com/calendario/pablo-serrano-320/
LOCATION:Museo Pablo Serrano\, Paseo María Agustín\, 20\, Zaragoza\, España
CATEGORIES:TALLERES A LA CARTA
ATTACH;FMTTYPE=image/webp:https://zootropoteatro.com/wp-content/uploads/2023/05/pablo-serrano-evento.webp
END:VEVENT
BEGIN:VEVENT
DTSTART;TZID=Europe/Madrid:20240414T110000
DTEND;TZID=Europe/Madrid:20240414T123000
DTSTAMP:20260420T181125
CREATED:20240123T111405Z
LAST-MODIFIED:20240123T111405Z
UID:4334-1713092400-1713097800@zootropoteatro.com
SUMMARY:Pablo y Juana\, como en casa
DESCRIPTION:Un ameno paseo por la obra del escultor Pablo Serrano y la pintora Juana Francés que te ayudará a conocer el sentido de sus creaciones. \nDirigido a todos los públicos. \nReservas en la web del IAAAC Pablo Serrano \nProyecto colaboración IAAAC Pablo Serrano y Museo Pablo Gargallo
URL:https://zootropoteatro.com/calendario/pablo-y-juana-como-en-casa-8/
LOCATION:IAACC Pablo Serrano (Zaragoza)\, Paseo María Agustín\, 20\, Zaragoza\, España
CATEGORIES:VISITAS TEATRALIZADAS
ATTACH;FMTTYPE=image/webp:https://zootropoteatro.com/wp-content/uploads/2023/05/juana_frances_con_pablo_serrano.webp
END:VEVENT
BEGIN:VEVENT
DTSTART;TZID=Europe/Madrid:20240416T100000
DTEND;TZID=Europe/Madrid:20240416T120000
DTSTAMP:20260420T181125
CREATED:20231201T083206Z
LAST-MODIFIED:20231201T083206Z
UID:4222-1713261600-1713268800@zootropoteatro.com
SUMMARY:Pablo Serrano
DESCRIPTION:Actividad didáctica para colegios en el IAACC Pablo Serrano.
URL:https://zootropoteatro.com/calendario/pablo-serrano-319/
LOCATION:Museo Pablo Serrano\, Paseo María Agustín\, 20\, Zaragoza\, España
CATEGORIES:TALLERES A LA CARTA
ATTACH;FMTTYPE=image/webp:https://zootropoteatro.com/wp-content/uploads/2023/05/pablo-serrano-evento.webp
END:VEVENT
BEGIN:VEVENT
DTSTART;TZID=Europe/Madrid:20240417T100000
DTEND;TZID=Europe/Madrid:20240417T120000
DTSTAMP:20260420T181125
CREATED:20231201T083249Z
LAST-MODIFIED:20231201T083249Z
UID:4220-1713348000-1713355200@zootropoteatro.com
SUMMARY:Pablo Serrano
DESCRIPTION:Actividad didáctica para colegios en el IAACC Pablo Serrano.
URL:https://zootropoteatro.com/calendario/pablo-serrano-321/
LOCATION:Museo Pablo Serrano\, Paseo María Agustín\, 20\, Zaragoza\, España
CATEGORIES:TALLERES A LA CARTA
ATTACH;FMTTYPE=image/webp:https://zootropoteatro.com/wp-content/uploads/2023/05/pablo-serrano-evento.webp
END:VEVENT
BEGIN:VEVENT
DTSTART;TZID=Europe/Madrid:20240419T200000
DTEND;TZID=Europe/Madrid:20240419T210000
DTSTAMP:20260420T181125
CREATED:20240409T060736Z
LAST-MODIFIED:20240409T060736Z
UID:4414-1713556800-1713560400@zootropoteatro.com
SUMMARY:Presentación libro: Las palabras olvidadas
DESCRIPTION:Las palabras olvidadas es fruto del trabajo de investigación realizado para la puesta escénica de «Las palabras olvidadas». Es un viaje al encuentro de muchas mujeres que se valieron de la escritura para expresar lo vivido\, lo sentido y lo imaginado. Desde la antigua Sumeria hasta final de la Edad Media\, descubriremos a diversas autoras cuyas palabras han sido muchas veces silenciadas\, ignoradas\, olvidadas. \nDirigido a público adulto \n 
URL:https://zootropoteatro.com/calendario/presentacion-libro-las-palabras-olvidadas-2/
LOCATION:Biblioteca La Almunia de Doña Godina
CATEGORIES:PRESENTACIÓN
ATTACH;FMTTYPE=image/jpeg:https://zootropoteatro.com/wp-content/uploads/2024/01/Portada-libro-Las-palabras-Olvidadas.jpg
END:VEVENT
BEGIN:VEVENT
DTSTART;TZID=Europe/Madrid:20240420T120000
DTEND;TZID=Europe/Madrid:20240420T130000
DTSTAMP:20260420T181125
CREATED:20240409T061201Z
LAST-MODIFIED:20240409T061318Z
UID:4416-1713614400-1713618000@zootropoteatro.com
SUMMARY:Istorias de l'ortal (Historias de la huerta)
DESCRIPTION:CENTRO CÍVICO SALVADOR ALLENDE – (Las Fuentes – Zaragoza)
URL:https://zootropoteatro.com/calendario/istorias-de-lortal-historias-del-ortal-3/
LOCATION:Centro Cívico Salvador Allende\, Zaragoza
CATEGORIES:NARRACIÓN ORAL
ATTACH;FMTTYPE=image/webp:https://zootropoteatro.com/wp-content/uploads/2023/05/historias-del-ortal.webp
END:VEVENT
BEGIN:VEVENT
DTSTART;TZID=Europe/Madrid:20240423T110000
DTEND;TZID=Europe/Madrid:20240423T190000
DTSTAMP:20260420T181125
CREATED:20240409T072136Z
LAST-MODIFIED:20240409T072136Z
UID:4420-1713870000-1713898800@zootropoteatro.com
SUMMARY:Firma de libros - Día del Libro
DESCRIPTION:Mariano Lasheras\, autor de Las Palabras Olvidadas\, estará en el paseo de la Independencia de Zaragoza firmando su libro en diferentes estands: \n11:00 a 12:00h – FNAC \n12:00 a 14:30h – Rolde de Estudios Aragoneses \n17:00 a 19:00h – Librería Antígona
URL:https://zootropoteatro.com/calendario/firma-de-libros-dia-del-libro/
LOCATION:Paseo de la Independencia\, Zaragoza\, España
CATEGORIES:PRESENTACIÓN
ATTACH;FMTTYPE=image/jpeg:https://zootropoteatro.com/wp-content/uploads/2024/04/Cartel-Dia-Libro.jpg
END:VEVENT
END:VCALENDAR