BEGIN:VCALENDAR
VERSION:2.0
PRODID:-//Zoótropo Teatro - ECPv6.15.0.1//NONSGML v1.0//EN
CALSCALE:GREGORIAN
METHOD:PUBLISH
X-ORIGINAL-URL:https://zootropoteatro.com
X-WR-CALDESC:Eventos para Zoótropo Teatro
REFRESH-INTERVAL;VALUE=DURATION:PT1H
X-Robots-Tag:noindex
X-PUBLISHED-TTL:PT1H
BEGIN:VTIMEZONE
TZID:Europe/Madrid
BEGIN:DAYLIGHT
TZOFFSETFROM:+0100
TZOFFSETTO:+0200
TZNAME:CEST
DTSTART:20240331T010000
END:DAYLIGHT
BEGIN:STANDARD
TZOFFSETFROM:+0200
TZOFFSETTO:+0100
TZNAME:CET
DTSTART:20241027T010000
END:STANDARD
END:VTIMEZONE
BEGIN:VEVENT
DTSTART;VALUE=DATE:20240511
DTEND;VALUE=DATE:20240512
DTSTAMP:20260422T053029
CREATED:20231201T113542Z
LAST-MODIFIED:20231201T113542Z
UID:4289-1715385600-1715471999@zootropoteatro.com
SUMMARY:El bosque con aire japonés (Cuentos\, música y poesía a la orilla del Ebro)
DESCRIPTION:PASEO POR LA RIBERA DEL RÍO EBRO \n2 PASES: 12 y 20 horas.
URL:https://zootropoteatro.com/calendario/el-bosque-con-aire-japones-cuentos-musica-y-poesia-a-la-orilla-del-ebro/
LOCATION:Sotos del río Ebro\, margen izquierda
CATEGORIES:NARRACIÓN ORAL
ATTACH;FMTTYPE=image/jpeg:https://zootropoteatro.com/wp-content/uploads/2023/12/Contada-21_5.jpeg
END:VEVENT
BEGIN:VEVENT
DTSTART;TZID=Europe/Madrid:20240512T120000
DTEND;TZID=Europe/Madrid:20240512T133000
DTSTAMP:20260422T053029
CREATED:20240123T112433Z
LAST-MODIFIED:20240123T112433Z
UID:4336-1715515200-1715520600@zootropoteatro.com
SUMMARY:SONIDOS DEL MUSEO
DESCRIPTION:Poemas\, cuentos y músicas inspiradas por las obras del IAACC Pablo Serrano \nDirigido a todos los públicos. \nReservas en la web del IAAAC Pablo Serrano
URL:https://zootropoteatro.com/calendario/sonidos-del-museo-5/
LOCATION:IAACC Pablo Serrano (Zaragoza)\, Paseo María Agustín\, 20\, Zaragoza\, España
CATEGORIES:VISITAS TEATRALIZADAS
ATTACH;FMTTYPE=image/webp:https://zootropoteatro.com/wp-content/uploads/2023/05/sonidos-del-museo.webp
END:VEVENT
BEGIN:VEVENT
DTSTART;TZID=Europe/Madrid:20240514T100000
DTEND;TZID=Europe/Madrid:20240514T120000
DTSTAMP:20260422T053029
CREATED:20231201T083430Z
LAST-MODIFIED:20231201T083430Z
UID:4217-1715680800-1715688000@zootropoteatro.com
SUMMARY:Pablo Serrano
DESCRIPTION:Actividad didáctica para colegios en el IAACC Pablo Serrano.
URL:https://zootropoteatro.com/calendario/pablo-serrano-324/
LOCATION:Museo Pablo Serrano\, Paseo María Agustín\, 20\, Zaragoza\, España
CATEGORIES:TALLERES A LA CARTA
ATTACH;FMTTYPE=image/webp:https://zootropoteatro.com/wp-content/uploads/2023/05/pablo-serrano-evento.webp
END:VEVENT
BEGIN:VEVENT
DTSTART;TZID=Europe/Madrid:20240515T100000
DTEND;TZID=Europe/Madrid:20240515T120000
DTSTAMP:20260422T053029
CREATED:20231201T083449Z
LAST-MODIFIED:20231201T083449Z
UID:4216-1715767200-1715774400@zootropoteatro.com
SUMMARY:Pablo Serrano
DESCRIPTION:Actividad didáctica para colegios en el IAACC Pablo Serrano.
URL:https://zootropoteatro.com/calendario/pablo-serrano-325/
LOCATION:Museo Pablo Serrano\, Paseo María Agustín\, 20\, Zaragoza\, España
CATEGORIES:TALLERES A LA CARTA
ATTACH;FMTTYPE=image/webp:https://zootropoteatro.com/wp-content/uploads/2023/05/pablo-serrano-evento.webp
END:VEVENT
BEGIN:VEVENT
DTSTART;TZID=Europe/Madrid:20240516T180000
DTEND;TZID=Europe/Madrid:20240516T200000
DTSTAMP:20260422T053029
CREATED:20240123T151603Z
LAST-MODIFIED:20240123T151603Z
UID:4360-1715882400-1715889600@zootropoteatro.com
SUMMARY:Presentación ciclo musical Cuarte de Huerva
DESCRIPTION:Auditorio Cuarte de Huerva \n  \n 
URL:https://zootropoteatro.com/calendario/presentacion-ciclo-musical-cuarte-de-huerva/
LOCATION:Auditorio Cuarte de Huerva
CATEGORIES:PRESENTACIÓN
END:VEVENT
BEGIN:VEVENT
DTSTART;TZID=Europe/Madrid:20240517T180000
DTEND;TZID=Europe/Madrid:20240517T200000
DTSTAMP:20260422T053029
CREATED:20240123T151720Z
LAST-MODIFIED:20240123T151720Z
UID:4363-1715968800-1715976000@zootropoteatro.com
SUMMARY:Presentación ciclo musical Cuarte de Huerva
DESCRIPTION:Auditorio Cuarte de Huerva \n  \n 
URL:https://zootropoteatro.com/calendario/presentacion-ciclo-musical-cuarte-de-huerva-2/
LOCATION:Auditorio Cuarte de Huerva
CATEGORIES:PRESENTACIÓN
END:VEVENT
BEGIN:VEVENT
DTSTART;TZID=Europe/Madrid:20240518T173000
DTEND;TZID=Europe/Madrid:20240518T183000
DTSTAMP:20260422T053029
CREATED:20240409T073121Z
LAST-MODIFIED:20240422T122826Z
UID:4428-1716053400-1716057000@zootropoteatro.com
SUMMARY:Las Palabras Olvidadas (versión)
DESCRIPTION:Participación en Territorio Sisón\, encuentro cultural por la racionalidad energética)  con la versión reducida de las Palabras Olvidadas de Zoótropo Teatro y el Mantel de Noa.
URL:https://zootropoteatro.com/calendario/las-palabras-olvidadas-version/
LOCATION:El bosque Sonoro\, Mozota\, Zaragoza
CATEGORIES:NARRACIÓN ORAL
ATTACH;FMTTYPE=image/jpeg:https://zootropoteatro.com/wp-content/uploads/2024/04/Cartel-Mozota.jpg
END:VEVENT
BEGIN:VEVENT
DTSTART;TZID=Europe/Madrid:20240521T100000
DTEND;TZID=Europe/Madrid:20240521T120000
DTSTAMP:20260422T053029
CREATED:20231201T083514Z
LAST-MODIFIED:20231201T083514Z
UID:4215-1716285600-1716292800@zootropoteatro.com
SUMMARY:Pablo Serrano
DESCRIPTION:Actividad didáctica para colegios en el IAACC Pablo Serrano.
URL:https://zootropoteatro.com/calendario/pablo-serrano-326/
LOCATION:Museo Pablo Serrano\, Paseo María Agustín\, 20\, Zaragoza\, España
CATEGORIES:TALLERES A LA CARTA
ATTACH;FMTTYPE=image/webp:https://zootropoteatro.com/wp-content/uploads/2023/05/pablo-serrano-evento.webp
END:VEVENT
BEGIN:VEVENT
DTSTART;TZID=Europe/Madrid:20240522T100000
DTEND;TZID=Europe/Madrid:20240522T120000
DTSTAMP:20260422T053029
CREATED:20231201T083549Z
LAST-MODIFIED:20231201T083549Z
UID:4255-1716372000-1716379200@zootropoteatro.com
SUMMARY:Pablo Serrano
DESCRIPTION:Actividad didáctica para colegios en el IAACC Pablo Serrano.
URL:https://zootropoteatro.com/calendario/pablo-serrano-327/
LOCATION:Museo Pablo Serrano\, Paseo María Agustín\, 20\, Zaragoza\, España
CATEGORIES:TALLERES A LA CARTA
ATTACH;FMTTYPE=image/webp:https://zootropoteatro.com/wp-content/uploads/2023/05/pablo-serrano-evento.webp
END:VEVENT
BEGIN:VEVENT
DTSTART;VALUE=DATE:20240525
DTEND;VALUE=DATE:20240526
DTSTAMP:20260422T053029
CREATED:20240123T151151Z
LAST-MODIFIED:20240123T151151Z
UID:4358-1716595200-1716681599@zootropoteatro.com
SUMMARY:Recreación histórica: Historia de la Cartuja Baja
DESCRIPTION:La Cartuja Baja (Zaragoza)
URL:https://zootropoteatro.com/calendario/recreacion-historica-historia-de-la-cartuja-baja-2/
LOCATION:Calles y Plazas de La Cartuja Baja
CATEGORIES:RECREACIONES HISTÓRICAS
ATTACH;FMTTYPE=image/webp:https://zootropoteatro.com/wp-content/uploads/2023/05/la-cartuja-baja-de-zaragoza.webp
END:VEVENT
BEGIN:VEVENT
DTSTART;TZID=Europe/Madrid:20240528T100000
DTEND;TZID=Europe/Madrid:20240528T120000
DTSTAMP:20260422T053029
CREATED:20231201T083604Z
LAST-MODIFIED:20231201T083604Z
UID:4254-1716890400-1716897600@zootropoteatro.com
SUMMARY:Pablo Serrano
DESCRIPTION:Actividad didáctica para colegios en el IAACC Pablo Serrano.
URL:https://zootropoteatro.com/calendario/pablo-serrano-328/
LOCATION:Museo Pablo Serrano\, Paseo María Agustín\, 20\, Zaragoza\, España
CATEGORIES:TALLERES A LA CARTA
ATTACH;FMTTYPE=image/webp:https://zootropoteatro.com/wp-content/uploads/2023/05/pablo-serrano-evento.webp
END:VEVENT
BEGIN:VEVENT
DTSTART;TZID=Europe/Madrid:20240529T100000
DTEND;TZID=Europe/Madrid:20240529T120000
DTSTAMP:20260422T053029
CREATED:20231201T083621Z
LAST-MODIFIED:20231201T083621Z
UID:4253-1716976800-1716984000@zootropoteatro.com
SUMMARY:Pablo Serrano
DESCRIPTION:Actividad didáctica para colegios en el IAACC Pablo Serrano.
URL:https://zootropoteatro.com/calendario/pablo-serrano-329/
LOCATION:Museo Pablo Serrano\, Paseo María Agustín\, 20\, Zaragoza\, España
CATEGORIES:TALLERES A LA CARTA
ATTACH;FMTTYPE=image/webp:https://zootropoteatro.com/wp-content/uploads/2023/05/pablo-serrano-evento.webp
END:VEVENT
BEGIN:VEVENT
DTSTART;TZID=Europe/Madrid:20240603T000000
DTEND;TZID=Europe/Madrid:20240603T000000
DTSTAMP:20260422T053029
CREATED:20240422T124459Z
LAST-MODIFIED:20240422T124459Z
UID:4472-1717372800-1717372800@zootropoteatro.com
SUMMARY:Las Palabras Olvidadas (charla)
DESCRIPTION:Feria del libro de Zaragoza \nCharla y recital de algunos textos de las autoras de las Palabras Olvidadas\, a cargo de Mariano Lasheras y el Mantel de Noa.
URL:https://zootropoteatro.com/calendario/las-palabras-olvidadas-charla/
CATEGORIES:NARRACIÓN ORAL
END:VEVENT
BEGIN:VEVENT
DTSTART;TZID=Europe/Madrid:20240609T120000
DTEND;TZID=Europe/Madrid:20240609T131500
DTSTAMP:20260422T053029
CREATED:20240123T112916Z
LAST-MODIFIED:20240123T145551Z
UID:4342-1717934400-1717938900@zootropoteatro.com
SUMMARY:Pablo Serrano\, escultor de emociones
DESCRIPTION:Un ameno paseo por la obra del escultor turolense que te ayudará a conocer el sentido de sus creaciones. \nDirigido a todos los públicos. \nReservas en la web del IAAAC Pablo Serrano
URL:https://zootropoteatro.com/calendario/__trashed-2/
LOCATION:IAACC Pablo Serrano (Zaragoza)\, Paseo María Agustín\, 20\, Zaragoza\, España
CATEGORIES:VISITAS TEATRALIZADAS
ATTACH;FMTTYPE=image/webp:https://zootropoteatro.com/wp-content/uploads/2023/05/visita-pablo-serrano.webp
END:VEVENT
BEGIN:VEVENT
DTSTART;TZID=Europe/Madrid:20240614T190000
DTEND;TZID=Europe/Madrid:20240614T210000
DTSTAMP:20260422T053029
CREATED:20240409T155706Z
LAST-MODIFIED:20240409T155854Z
UID:4453-1718391600-1718398800@zootropoteatro.com
SUMMARY:Visita Teatralizada "La Magdalena: iberos\, judíos\, musulmanes y cristianos"
DESCRIPTION:Precio: 10 € por persona (8 € parados\, menores de 8 años y grupos de más de 10). \nReservas llamando al 656854641 (Mariano) \n+ Información
URL:https://zootropoteatro.com/calendario/visita-teatralizada-la-magdalena-iberos-judios-musulmanes-y-cristianos-12/
LOCATION:Barrio de La Magdalena (Zaragoza)
CATEGORIES:VISITAS TEATRALIZADAS
ATTACH;FMTTYPE=image/jpeg:https://zootropoteatro.com/wp-content/uploads/2022/01/visitas_teatralizadas3.jpg
END:VEVENT
BEGIN:VEVENT
DTSTART;TZID=Europe/Madrid:20240620T190000
DTEND;TZID=Europe/Madrid:20240620T200000
DTSTAMP:20260422T053029
CREATED:20240521T061617Z
LAST-MODIFIED:20240521T061617Z
UID:4495-1718910000-1718913600@zootropoteatro.com
SUMMARY:Visita Teatralizada "San Pablo: comercios con mucho gancho"
DESCRIPTION:Reservas llamando al 656854641 (Mariano) \n 
URL:https://zootropoteatro.com/calendario/visita-teatralizada-san-pablo-comercios-con-mucho-gancho-5/
LOCATION:Barrio de San Pablo (Zaragoza)
CATEGORIES:VISITAS TEATRALIZADAS
END:VEVENT
BEGIN:VEVENT
DTSTART;TZID=Europe/Madrid:20240621T190000
DTEND;TZID=Europe/Madrid:20240621T210000
DTSTAMP:20260422T053029
CREATED:20240409T155755Z
LAST-MODIFIED:20240409T155807Z
UID:4455-1718996400-1719003600@zootropoteatro.com
SUMMARY:Visita Teatralizada "La Magdalena: iberos\, judíos\, musulmanes y cristianos"
DESCRIPTION:Precio: 10 € por persona (8 € parados\, menores de 8 años y grupos de más de 10). \nReservas llamando al 656854641 (Mariano) \n+ Información
URL:https://zootropoteatro.com/calendario/visita-teatralizada-la-magdalena-iberos-judios-musulmanes-y-cristianos-13/
LOCATION:Barrio de La Magdalena (Zaragoza)
CATEGORIES:VISITAS TEATRALIZADAS
ATTACH;FMTTYPE=image/jpeg:https://zootropoteatro.com/wp-content/uploads/2022/01/visitas_teatralizadas3.jpg
END:VEVENT
BEGIN:VEVENT
DTSTART;TZID=Europe/Madrid:20240622T000000
DTEND;TZID=Europe/Madrid:20240622T000000
DTSTAMP:20260422T053029
CREATED:20240226T165128Z
LAST-MODIFIED:20240226T165128Z
UID:4390-1719014400-1719014400@zootropoteatro.com
SUMMARY:Las palabras olvidadas
DESCRIPTION:Benabarre (Huesca) \n  \n 
URL:https://zootropoteatro.com/calendario/las-palabras-olvidadas-39/
CATEGORIES:NARRACIÓN ORAL,TEATRO DE SALA
ATTACH;FMTTYPE=image/webp:https://zootropoteatro.com/wp-content/uploads/2023/05/las-palabras-olvidadas-cartel.webp
END:VEVENT
BEGIN:VEVENT
DTSTART;TZID=Europe/Madrid:20240706T200000
DTEND;TZID=Europe/Madrid:20240706T213000
DTSTAMP:20260422T053029
CREATED:20240313T083739Z
LAST-MODIFIED:20240409T160736Z
UID:4394-1720296000-1720301400@zootropoteatro.com
SUMMARY:FARSAS MEDIEVALES -Grupo de Teatro "Más que palabras"
DESCRIPTION:Castillo de Maella (Zaragoza)
URL:https://zootropoteatro.com/calendario/teatro-medieval-grupo-de-teatro-mas-que-palabras-2/
LOCATION:Maella (Zaragoza)\, Zaragoza
CATEGORIES:TALLERES A LA CARTA
ATTACH;FMTTYPE=image/jpeg:https://zootropoteatro.com/wp-content/uploads/2022/03/mas-que-palabras8.jpg
END:VEVENT
BEGIN:VEVENT
DTSTART;TZID=Europe/Madrid:20240803T190000
DTEND;TZID=Europe/Madrid:20240803T203000
DTSTAMP:20260422T053029
CREATED:20240409T074726Z
LAST-MODIFIED:20240409T074800Z
UID:4438-1722711600-1722717000@zootropoteatro.com
SUMMARY:Ball dels Salvatges
DESCRIPTION:Lugar: Plaza Mayor de Benabarre (Huesca) \nHora: 19 horas \n+ Información
URL:https://zootropoteatro.com/calendario/ball-dels-salvatges-2/
LOCATION:Benabarre (Huesca)
CATEGORIES:TALLERES A LA CARTA
END:VEVENT
BEGIN:VEVENT
DTSTART;TZID=Europe/Madrid:20240809T223000
DTEND;TZID=Europe/Madrid:20240809T234500
DTSTAMP:20260422T053029
CREATED:20240627T094609Z
LAST-MODIFIED:20240627T100613Z
UID:4511-1723242600-1723247100@zootropoteatro.com
SUMMARY:Las palabras olvidadas
DESCRIPTION:Remolinos (Zaragoza) \n  \n 
URL:https://zootropoteatro.com/calendario/las-palabras-olvidadas-43/
CATEGORIES:NARRACIÓN ORAL,TEATRO DE SALA
ATTACH;FMTTYPE=image/webp:https://zootropoteatro.com/wp-content/uploads/2023/05/las-palabras-olvidadas-cartel.webp
END:VEVENT
BEGIN:VEVENT
DTSTART;TZID=Europe/Madrid:20240811T000000
DTEND;TZID=Europe/Madrid:20240811T000000
DTSTAMP:20260422T053029
CREATED:20240521T061407Z
LAST-MODIFIED:20240521T061407Z
UID:4493-1723334400-1723334400@zootropoteatro.com
SUMMARY:Las palabras olvidadas
DESCRIPTION:Albentosa (Teruel) \n  \n 
URL:https://zootropoteatro.com/calendario/las-palabras-olvidadas-41/
CATEGORIES:NARRACIÓN ORAL,TEATRO DE SALA
ATTACH;FMTTYPE=image/webp:https://zootropoteatro.com/wp-content/uploads/2023/05/las-palabras-olvidadas-cartel.webp
END:VEVENT
BEGIN:VEVENT
DTSTART;TZID=Europe/Madrid:20240815T223000
DTEND;TZID=Europe/Madrid:20240815T223000
DTSTAMP:20260422T053029
CREATED:20240509T105906Z
LAST-MODIFIED:20240703T155206Z
UID:4486-1723761000-1723761000@zootropoteatro.com
SUMMARY:Las palabras olvidadas
DESCRIPTION:Peñas Royas (Montalbán) \n  \n 
URL:https://zootropoteatro.com/calendario/las-palabras-olvidadas-40/
LOCATION:Barrio Peñas Royas\, Peñas Royas (Montalbán)\, Teruel
CATEGORIES:NARRACIÓN ORAL,TEATRO DE SALA
ATTACH;FMTTYPE=image/webp:https://zootropoteatro.com/wp-content/uploads/2023/05/las-palabras-olvidadas-cartel.webp
END:VEVENT
BEGIN:VEVENT
DTSTART;TZID=Europe/Madrid:20240817T190000
DTEND;TZID=Europe/Madrid:20240817T200000
DTSTAMP:20260422T053029
CREATED:20240409T074029Z
LAST-MODIFIED:20240501T084205Z
UID:4432-1723921200-1723924800@zootropoteatro.com
SUMMARY:Cuentico contao
DESCRIPTION:Semana cultural de Burbáguena (Teruel) \n+ Información
URL:https://zootropoteatro.com/calendario/cuentico-contao-16/
LOCATION:Plaza Burbáguena (Teruel)\, Burbáguena\, Teruel\, España
CATEGORIES:NARRACIÓN ORAL
ATTACH;FMTTYPE=image/jpeg:https://zootropoteatro.com/wp-content/uploads/2022/01/cuentico_contao2.jpg
END:VEVENT
BEGIN:VEVENT
DTSTART;TZID=Europe/Madrid:20240825T183000
DTEND;TZID=Europe/Madrid:20240825T200000
DTSTAMP:20260422T053029
CREATED:20240721T080628Z
LAST-MODIFIED:20240721T083316Z
UID:4515-1724610600-1724616000@zootropoteatro.com
SUMMARY:Cuentico contao
DESCRIPTION:Fiestas patronales de Tosos (Zaragoza) \n  \n 
URL:https://zootropoteatro.com/calendario/cuentico-contao-19/
LOCATION:Bar piscinas municipales\, Calle Piscinas s/n\, Tosos\, Zaragoza\, España
CATEGORIES:NARRACIÓN ORAL
ATTACH;FMTTYPE=image/jpeg:https://zootropoteatro.com/wp-content/uploads/2022/01/cuentico_contao2.jpg
END:VEVENT
BEGIN:VEVENT
DTSTART;TZID=Europe/Madrid:20240906T190000
DTEND;TZID=Europe/Madrid:20240906T210000
DTSTAMP:20260422T053029
CREATED:20240409T155953Z
LAST-MODIFIED:20240409T155953Z
UID:4457-1725649200-1725656400@zootropoteatro.com
SUMMARY:Visita Teatralizada "La Magdalena: iberos\, judíos\, musulmanes y cristianos"
DESCRIPTION:Precio: 10 € por persona (8 € parados\, menores de 8 años y grupos de más de 10). \nReservas llamando al 656854641 (Mariano) \n+ Información
URL:https://zootropoteatro.com/calendario/visita-teatralizada-la-magdalena-iberos-judios-musulmanes-y-cristianos-14/
LOCATION:Barrio de La Magdalena (Zaragoza)
CATEGORIES:VISITAS TEATRALIZADAS
ATTACH;FMTTYPE=image/jpeg:https://zootropoteatro.com/wp-content/uploads/2022/01/visitas_teatralizadas3.jpg
END:VEVENT
BEGIN:VEVENT
DTSTART;TZID=Europe/Madrid:20240907T190000
DTEND;TZID=Europe/Madrid:20240907T200000
DTSTAMP:20260422T053029
CREATED:20240901T073519Z
LAST-MODIFIED:20240901T073519Z
UID:4596-1725735600-1725739200@zootropoteatro.com
SUMMARY:Cuentos\, poemas y retahílas
DESCRIPTION:Estadio Miralbueno El Olivar (Zaragoza) \n 
URL:https://zootropoteatro.com/calendario/cuentos-poemas-y-retahilas-33/
CATEGORIES:NARRACIÓN ORAL
ATTACH;FMTTYPE=image/jpeg:https://zootropoteatro.com/wp-content/uploads/2022/01/cuentos-poemas-retahilas.jpg
END:VEVENT
BEGIN:VEVENT
DTSTART;TZID=Europe/Madrid:20240913T190000
DTEND;TZID=Europe/Madrid:20240913T210000
DTSTAMP:20260422T053029
CREATED:20240409T160051Z
LAST-MODIFIED:20240409T160051Z
UID:4459-1726254000-1726261200@zootropoteatro.com
SUMMARY:Visita Teatralizada "La Magdalena: iberos\, judíos\, musulmanes y cristianos"
DESCRIPTION:Precio: 10 € por persona (8 € parados\, menores de 8 años y grupos de más de 10). \nReservas llamando al 656854641 (Mariano) \n+ Información
URL:https://zootropoteatro.com/calendario/visita-teatralizada-la-magdalena-iberos-judios-musulmanes-y-cristianos-15/
LOCATION:Barrio de La Magdalena (Zaragoza)
CATEGORIES:VISITAS TEATRALIZADAS
ATTACH;FMTTYPE=image/jpeg:https://zootropoteatro.com/wp-content/uploads/2022/01/visitas_teatralizadas3.jpg
END:VEVENT
BEGIN:VEVENT
DTSTART;TZID=Europe/Madrid:20240921T180000
DTEND;TZID=Europe/Madrid:20240921T190000
DTSTAMP:20260422T053029
CREATED:20240502T115036Z
LAST-MODIFIED:20240502T115036Z
UID:4480-1726941600-1726945200@zootropoteatro.com
SUMMARY:Una de romanos
DESCRIPTION:Artieda (Zaragoza)
URL:https://zootropoteatro.com/calendario/una-de-romanos/
LOCATION:plaza de Aragón. Artieda\, Plaza de Aragón\, Artieda\, Zaragoza\, 50683\, España
CATEGORIES:NARRACIÓN ORAL,TEATRO DE SALA
ATTACH;FMTTYPE=image/webp:https://zootropoteatro.com/wp-content/uploads/2022/03/una-de-romanos5.webp
END:VEVENT
BEGIN:VEVENT
DTSTART;VALUE=DATE:20240927
DTEND;VALUE=DATE:20240930
DTSTAMP:20260422T053029
CREATED:20240123T150213Z
LAST-MODIFIED:20240409T160555Z
UID:4354-1727395200-1727654399@zootropoteatro.com
SUMMARY:IX Jornadas Literarias "Más que palabras"
DESCRIPTION:Talleres escritura\, ilustración\, narración oral\, late show y muchas cosas más… \nMaella (Zaragoza) \nMás información
URL:https://zootropoteatro.com/calendario/ix-jornadas-literarias-mas-que-palabras/
LOCATION:Maella (Zaragoza)\, Zaragoza
CATEGORIES:NARRACIÓN ORAL,TEATRO DE SALA
ATTACH;FMTTYPE=image/webp:https://zootropoteatro.com/wp-content/uploads/2023/05/cartel-mas-que-palabras.webp
END:VEVENT
END:VCALENDAR